Workbook

Sheet Documentation
B1: Shelly Cashman Excel 2019 | Module 6: SAM Project 1b
B3: Roscoe's Sports Blog
B4: CREATE, SORT, AND QUERY TABLES
A6: Author: | B6: Merissa Galaviz
A8: Note: Do not edit this sheet. If your name does not appear in cell B6, please download a new copy of the file from the SAM website.

Sheet August Articles
A1: Article Title | B1: Author | C1: Publication Date | D1: Number of Words | E1: Article Type | F1: Sports Level | G1: Payment
A2: Last-minute duel in golf | B2: Martin | C2: 44410 | D2: 322 | E2: News | F2: Professional | G2: =D2*1.2 -> 386.4
A3: European road bicycle racing? | B3: Pedraza | C3: 44413 | D3: 174 | E3: Opinion | F3: Professional | G3: =D3*1.2 -> 208.8
A4: This year could be big in tennis | B4: Tovar | C4: 44415 | D4: 250 | E4: Profile | F4: Professional | G4: =D4*1.2 -> 300
A5: Third base is a power position | B5: O'Brien | C5: 44416 | D5: 314 | E5: Opinion | F5: College | G5: =D5*1.2 -> 376.8
A6: Ups and downs in the NFC East | B6: Fuentes | C6: 44418 | D6: 504 | E6: Feature | F6: Professional | G6: =D6*1.2 -> 604.8
A7: Ranking NBA journeymen | B7: Romano | C7: 44418 | D7: 446 | E7: Analysis | F7: Professional | G7: =D7*1.2 -> 535.2
A8: Fantasy baseball movers and shakers | B8: O'Brien | C8: 44419 | D8: 482 | E8: Opinion | F8: Professional | G8: =D8*1.2 -> 578.4
A9: Women's softball championship | B9: Pedraza | C9: 44420 | D9: 181 | E9: News | F9: Amateur | G9: =D9*1.2 -> 217.2
A10: Ups and downs in the NFC South | B10: Fuentes | C10: 44420 | D10: 512 | E10: Feature | F10: Professional | G10: =D10*1.2 -> 614.4
A11: Ups and downs in the NFC North | B11: Fuentes | C11: 44421 | D11: 524 | E11: Feature | F11: Professional | G11: =D11*1.2 -> 628.8
A12: Had enough with preseason football? | B12: Walsh | C12: 44422 | D12: 487 | E12: Opinion | F12: Professional | G12: =D12*1.2 -> 584.4
A13: Ankle injuries are killing the NBA's best | B13: Romano | C13: 44423 | D13: 359 | E13: Opinion | F13: Professional | G13: =D13*1.2 -> 430.8
... A26: Hidden college football stars | B26: Walsh | C26: 44439 | D26: 477 | E26: Profile | F26: College | G26: =D26*1.2 -> 572.4

Sheet Current Articles
A1: Article Title | B1: Author | C1: Publication Date | D1: Number of Words | E1: Article Type | F1: Sports Level | G1: Payment | H1: Approved? | I1: Published?
A2: MLB playoff picture | B2: Tovar | C2: 44444 | D2: 526 | E2: Analysis | F2: Professional | G2: =CurrentArticles[[#This Row],[Number of Words]]*1.2 -> 631.2 | H2: No | I2: No
A3: Power conferences in the NFL | B3: Fuentes | C3: 44441 | D3: 522 | E3: Analysis | F3: Professional | G3: =CurrentArticles[[#This Row],[Number of Words]]*1.2 -> 626.4 | H3: Yes | I3: No
A4: So you want to add an ace? | B4: Tovar | C4: 44441 | D4: 514 | E4: Opinion | F4: Professional | G4: =CurrentArticles[[#This Row],[Number of Words]]*1.2 -> 616.8 | H4: Yes | I4: Yes
A5: Eight-team playoff is better | B5: Walsh | C5: 44445 | D5: 490 | E5: Opinion | F5: College | G5: =CurrentArticles[[#This Row],[Number of Words]]*1.2 -> 588 | H5: Yes | I5: No
A6: Weekend Preview | B6: Aken | C6: 44449 | D6: 482 | E6: News | F6: College | G6: =CurrentArticles[[#This Row],[Number of Words]]*1.2 -> 578.4 | H6: Yes | I6: No
A7: College football coaching changes | B7: Aken | C7: 44440 | D7: 420 | E7: News | F7: College | G7: =CurrentArticles[[#This Row],[Number of Words]]*1.2 -> 504 | H7: No | I7: No
A8: Another ref crisis? | B8: Fuentes | C8: 44448 | D8: 401 | E8: Opinion | F8: Professional | G8: =CurrentArticles[[#This Row],[Number of Words]]*1.2 -> 481.2 | H8: Yes | I8: Yes
A9: It's always raining at the Open | B9: Martin | C9: 44446 | D9: 366 | E9: Feature | F9: Professional | G9: =CurrentArticles[[#This Row],[Number of Words]]*1.2 -> 439.2 | H9: Yes | I9: Yes
A10: Friday night lights | B10: Martin | C10: 44442 | D10: 360 | E10: News | F10: High school | G10: =CurrentArticles[[#This Row],[Number of Words]]*1.2 -> 432 | H10: No | I10: No
A11: Better helmets, better games | B11: Aken | C11: 44443 | D11: 358 | E11: Opinion | F11: College | G11: =CurrentArticles[[#This Row],[Number of Words]]*1.2 -> 429.6 | H11: Yes | I11: Yes
A12: Women's hoops preview | B12: Romano | C12: 44447 | D12: 304 | E12: Feature | F12: College | G12: =CurrentArticles[[#This Row],[Number of Words]]*1.2 -> 364.8 | H12: Yes | I12: Yes
A13: European games | B13: Pedraza | C13: 44443 | D13: 259 | E13: Feature | F13: Amateur | G13: =CurrentArticles[[#This Row],[Number of Words]]*1.2 -> 310.8 | H13: Yes | I13: Yes
A16: Articles in Progress
A17: Article Title | B17: Author | C17: Publication Date | D17: Number of Words | E17: Article Type | F17: Sports Level | G17: Payment | H17: Approved? | I17: Published?
I18: Yes
A20: Article Title | B20: Author | C20: Publication Date | D20: Number of Words | E20: Article Type | F20: Sports Level | G20: Payment | H20: Approved? | I20: Published?
A21: MLB playoff picture | B21: Tovar | C21: 44444 | D21: 526 | E21: Analysis | F21: Professional | G21: 631.2 | H21: No | I21: No
A22: Power conferences in the NFL | B22: Fuentes | C22: 44441 | D22: 522 | E22: Analysis | F22: Professional | G22: 626.4 | H22: Yes | I22: No
A23: So you want to add an ace? | B23: Tovar | C23: 44441 | D23: 514 | E23: Opinion | F23: Professional | G23: 616.8 | H23: Yes | I23: Yes
A24: Eight-team playoff is better | B24: Walsh | C24: 44445 | D24: 490 | E24: Opinion | F24: College | G24: 588 | H24: Yes | I24: No
A25: Weekend Preview | B25: Aken | C25: 44449 | D25: 482 | E25: News | F25: College | G25: 578.4 | H25: Yes | I25: No
A26: College football coaching changes | B26: Aken | C26: 44440 | D26: 420 | E26: News | F26: College | G26: 504 | H26: No | I26: No
A27: Another ref crisis? | B27: Fuentes | C27: 44448 | D27: 401 | E27: Opinion | F27: Professional | G27: 481.2 | H27: Yes | I27: Yes
A28: It's always raining at the Open | B28: Martin | C28: 44446 | D28: 366 | E28: Feature | F28: Professional | G28: 439.2 | H28: Yes | I28: Yes
A29: Friday night lights | B29: Martin | C29: 44442 | D29: 360 | E29: News | F29: High school | G29: 432 | H29: No | I29: No
A30: Better helmets, better games | B30: Aken | C30: 44443 | D30: 358 | E30: Opinion | F30: College | G30: 429.6 | H30: Yes | I30: Yes
A31: Women's hoops preview | B31: Romano | C31: 44447 | D31: 304 | E31: Feature | F31: College | G31: 364.8 | H31: Yes | I31: Yes
A32: European games | B32: Pedraza | C32: 44443 | D32: 259 | E32: Feature | F32: Amateur | G32: 310.8 | H32: Yes | I32: Yes

Sheet Proposed Articles
A1: Article Title | B1: Author | C1: Publication Date | D1: Number of Words | E1: Article Type | F1: Sports Level | G1: Payment | H1: Extra Art | J1: Article Type | K1: Number Proposed | L1: Total Payment | M1: Average Payment
A2: QB roundup | B2: Fuentes | C2: 44449 | D2: 504 | E2: Feature | F2: College | G2: ='Proposed Articles'!$D2*1.2 -> 604.8 | H2: =AND(ProposedArticles[[#This Row],[Number of Words]]>400,ProposedArticles[[#This Row],[Article Type]]="Feature") -> TRUE | J2: Analysis | K2: =COUNTIF(ProposedArticles[[#Headers],[#Data],[Article Type]],J2) -> 4 | L2: =SUMIF(ProposedArticles[[#Headers],[#Data],[Article Type]],J2,ProposedArticles[[#Headers],[#Data],[Payment]]) -> 2361.6 | M2: =AVERAGEIF(ProposedArticles[[#Headers],[#Data],[Article Type]],J2,ProposedArticles[[#Headers],[#Data],[Payment]]) -> 590.4
A3: Early Heisman talk | B3: Aken | C3: 44450 | D3: 459 | E3: Analysis | F3: College | G3: ='Proposed Articles'!$D3*1.2 -> 550.8 | H3: =AND(ProposedArticles[[#This Row],[Number of Words]]>400,ProposedArticles[[#This Row],[Article Type]]="Feature") -> FALSE | J3: Feature | K3: =COUNTIF(ProposedArticles[[#Headers],[#Data],[Article Type]],J3) -> 3 | L3: =SUMIF(ProposedArticles[[#Headers],[#Data],[Article Type]],J3,ProposedArticles[[#Headers],[#Data],[Payment]]) -> 1600.8 | M3: =AVERAGEIF(ProposedArticles[[#Headers],[#Data],[Article Type]],J3,ProposedArticles[[#Headers],[#Data],[Payment]]) -> 533.6
A4: Little League World Series | B4: Pedraza | C4: 44451 | D4: 510 | E4: News | F4: Amateur | G4: ='Proposed Articles'!$D4*1.2 -> 612 | H4: =AND(ProposedArticles[[#This Row],[Number of Words]]>400,ProposedArticles[[#This Row],[Article Type]]="Feature") -> FALSE | J4: News | K4: =COUNTIF(ProposedArticles[[#Headers],[#Data],[Article Type]],J4) -> 3 | L4: =SUMIF(ProposedArticles[[#Headers],[#Data],[Article Type]],J4,ProposedArticles[[#Headers],[#Data],[Payment]]) -> 1652.4 | M4: =AVERAGEIF(ProposedArticles[[#Headers],[#Data],[Article Type]],J4,ProposedArticles[[#Headers],[#Data],[Payment]]) -> 550.8
A5: Pennant race heats up | B5: Kanga | C5: 44451 | D5: 522 | E5: News | F5: Professional | G5: ='Proposed Articles'!$D5*1.2 -> 626.4 | H5: =AND(ProposedArticles[[#This Row],[Number of Words]]>400,ProposedArticles[[#This Row],[Article Type]]="Feature") -> FALSE | J5: Opinion | K5: =COUNTIF(ProposedArticles[[#Headers],[#Data],[Article Type]],J5) -> 2 | L5: =SUMIF(ProposedArticles[[#Headers],[#Data],[Article Type]],J5,ProposedArticles[[#Headers],[#Data],[Payment]]) -> 1232.4 | M5: =AVERAGEIF(ProposedArticles[[#Headers],[#Data],[Article Type]],J5,ProposedArticles[[#Headers],[#Data],[Payment]]) -> 616.2
A6: This week's picks | B6: Walsh | C6: 44452 | D6: 584 | E6: Analysis | F6: Professional | G6: ='Proposed Articles'!$D6*1.2 -> 700.8 | H6: =AND(ProposedArticles[[#This Row],[Number of Words]]>400,ProposedArticles[[#This Row],[Article Type]]="Feature") -> FALSE | J6: Profile | K6: =COUNTIF(ProposedArticles[[#Headers],[#Data],[Article Type]],J6) -> 2 | L6: =SUMIF(ProposedArticles[[#Headers],[#Data],[Article Type]],J6,ProposedArticles[[#Headers],[#Data],[Payment]]) -> 913.2 | M6: =AVERAGEIF(ProposedArticles[[#Headers],[#Data],[Article Type]],J6,ProposedArticles[[#Headers],[#Data],[Payment]]) -> 456.6
A7: On the leader board | B7: Martin | C7: 44453 | D7: 345 | E7: News | F7: Professional | G7: ='Proposed Articles'!$D7*1.2 -> 414 | H7: =AND(ProposedArticles[[#This Row],[Number of Words]]>400,ProposedArticles[[#This Row],[Article Type]]="Feature") -> FALSE
A8: College catcher does it again | B8: Tovar | C8: 44454 | D8: 338 | E8: Profile | F8: College | G8: ='Proposed Articles'!$D8*1.2 -> 405.6 | H8: =AND(ProposedArticles[[#This Row],[Number of Words]]>400,ProposedArticles[[#This Row],[Article Type]]="Feature") -> FALSE | J8: Sept 2020 Article Summary
A9: On-the-mound decisions | B9: Kanga | C9: 44454 | D9: 530 | E9: Opinion | F9: Professional | G9: ='Proposed Articles'!$D9*1.2 -> 636 | H9: =AND(ProposedArticles[[#This Row],[Number of Words]]>400,ProposedArticles[[#This Row],[Article Type]]="Feature") -> FALSE | J9: Article Type | K9: Proposed | L9: Published | M9: Payment
A10: Road ahead for AFC East | B10: Fuentes | C10: 44455 | D10: 502 | E10: Analysis | F10: Professional | G10: ='Proposed Articles'!$D10*1.2 -> 602.4 | H10: =AND(ProposedArticles[[#This Row],[Number of Words]]>400,ProposedArticles[[#This Row],[Article Type]]="Feature") -> FALSE | J10: Analysis | K10: 5 | L10: 3 | M10: 1998
A11: Powerhouses in the SEC | B11: Aken | C11: 44455 | D11: 423 | E11: Profile | F11: College | G11: ='Proposed Articles'!$D11*1.2 -> 507.6 | H11: =AND(ProposedArticles[[#This Row],[Number of Words]]>400,ProposedArticles[[#This Row],[Article Type]]="Feature") -> FALSE | J11: Feature | K11: 5 | L11: 4 | M11: 2065
A12: The difference is recruiting | B12: Walsh | C12: 44456 | D12: 497 | E12: Opinion | F12: College | G12: ='Proposed Articles'!$D12*1.2 -> 596.4 | H12: =AND(ProposedArticles[[#This Row],[Number of Words]]>400,ProposedArticles[[#This Row],[Article Type]]="Feature") -> FALSE | J12: News | K12: 4 | L12: 3 | M12: 1603
A13: Free agent tracker | B13: Romano | C13: 44457 | D13: 384 | E13: Feature | F13: Professional | G13: ='Proposed Articles'!$D13*1.2 -> 460.8 | H13: =AND(ProposedArticles[[#This Row],[Number of Words]]>400,ProposedArticles[[#This Row],[Article Type]]="Feature") -> FALSE | J13: Opinion | K13: 3 | L13: 3 | M13: 1512
A14: NL West is where the action is | B14: O'Brien | C14: 44458 | D14: 423 | E14: Analysis | F14: Professional | G14: ='Proposed Articles'!$D14*1.2 -> 507.6 | H14: =AND(ProposedArticles[[#This Row],[Number of Words]]>400,ProposedArticles[[#This Row],[Article Type]]="Feature") -> FALSE | J14: Profile | K14: 3 | L14: 2 | M14: 1004
A15: Surprises out of the NFC North | B15: Fuentes | C15: 44459 | D15: 446 | E15: Feature | F15: Professional | G15: ='Proposed Articles'!$D15*1.2 -> 535.2 | H15: =AND(ProposedArticles[[#This Row],[Number of Words]]>400,ProposedArticles[[#This Row],[Article Type]]="Feature") -> TRUE
G16: =SUBTOTAL(109,ProposedArticles[Payment]) -> 7760.4 | H16: =SUBTOTAL(103,ProposedArticles[Extra Art]) -> 14

Sheet August Advertising
A1: Article Title | B1: Author | C1: Publication Date | D1: Number of Words | E1: Article Type | F1: Sports Level | G1: Ad Amt
A2: Ranking NBA journeymen | B2: Romano | C2: 44418 | D2: 446 | E2: Analysis | F2: Professional | G2: ='August Advertising'!$D2*2.5 -> 1115
A3: Hernandez comes roaring back | B3: Martin | C3: 44430 | D3: 280 | E3: Analysis | F3: High School | G3: ='August Advertising'!$D3*2.5 -> 700
A4: Closer trends and strategies | B4: O'Brien | C4: 44438 | D4: 314 | E4: Analysis | F4: College | G4: ='August Advertising'!$D4*2.5 -> 785
E5: Analysis Total | G5: =SUBTOTAL(9,G2:G4) -> 2600
A6: Ups and downs in the NFC East | B6: Fuentes | C6: 44418 | D6: 504 | E6: Feature | F6: Professional | G6: ='August Advertising'!$D6*2.5 -> 1260
A7: Ups and downs in the NFC South | B7: Fuentes | C7: 44420 | D7: 512 | E7: Feature | F7: Professional | G7: ='August Advertising'!$D7*2.5 -> 1280
A8: Ups and downs in the NFC North | B8: Fuentes | C8: 44421 | D8: 524 | E8: Feature | F8: Professional | G8: ='August Advertising'!$D8*2.5 -> 1310
A9: College football is around the corner | B9: Aken | C9: 44426 | D9: 602 | E9: Feature | F9: College | G9: ='August Advertising'!$D9*2.5 -> 1505
A10: Pace of MLB rebuild picks up | B10: O'Brien | C10: 44432 | D10: 420 | E10: Feature | F10: Professional | G10: ='August Advertising'!$D10*2.5 -> 1050
A11: New to fantasy baseball? | B11: Tovar | C11: 44436 | D11: 256 | E11: Feature | F11: Professional | G11: ='August Advertising'!$D11*2.5 -> 640
E12: Feature Total | G12: =SUBTOTAL(9,G6:G11) -> 7045
A13: Last-minute duel in golf | B13: Martin | C13: 44410 | D13: 322 | E13: News | F13: Professional | G13: ='August Advertising'!$D13*2.5 -> 805
A14: Women's softball championship | B14: Pedraza | C14: 44420 | D14: 181 | E14: News | F14: Amateur | G14: ='August Advertising'!$D14*2.5 -> 452.5
A15: NFL waiver wire | B15: Fuentes | C15: 44424 | D15: 397 | E15: News | F15: Professional | G15: ='August Advertising'!$D15*2.5 -> 992.5
A16: Women's soccer and more | B16: Tovar | C16: 44428 | D16: 227 | E16: News | F16: Amateur | G16: ='August Advertising'!$D16*2.5 -> 567.5
A17: Eleventh-inning errors | B17: O'Brien | C17: 44429 | D17: 382 | E17: News | F17: College | G17: ='August Advertising'!$D17*2.5 -> 955
A18: Head-to-head points and ranks | B18: Aken | C18: 44435 | D18: 230 | E18: News | F18: High School | G18: ='August Advertising'!$D18*2.5 -> 575
E19: News Total | G19: =SUBTOTAL(9,G13:G18) -> 4347.5
A20: European road bicycle racing? | B20: Pedraza | C20: 44413 | D20: 174 | E20: Opinion | F20: Professional | G20: ='August Advertising'!$D20*2.5 -> 435
A21: Third base is a power position | B21: O'Brien | C21: 44416 | D21: 314 | E21: Opinion | F21: College | G21: ='August Advertising'!$D21*2.5 -> 785
A22: Fantasy baseball movers and shakers | B22: O'Brien | C22: 44419 | D22: 482 | E22: Opinion | F22: Professional | G22: ='August Advertising'!$D22*2.5 -> 1205
A23: Had enough with preseason football? | B23: Walsh | C23: 44422 | D23: 487 | E23: Opinion | F23: Professional | G23: ='August Advertising'!$D23*2.5 -> 1217.5
A24: Ankle injuries are killing the NBA's best | B24: Romano | C24: 44423 | D24: 359 | E24: Opinion | F24: Professional | G24: ='August Advertising'!$D24*2.5 -> 897.5
A25: Quarterback stability is everything | B25: Walsh | C25: 44427 | D25: 434 | E25: Opinion | F25: College | G25: ='August Advertising'!$D25*2.5 -> 1085
A26: Time for another MLB expansion? | B26: Tovar | C26: 44433 | D26: 388 | E26: Opinion | F26: Professional | G26: ='August Advertising'!$D26*2.5 -> 970
E27: Opinion Total | G27: =SUBTOTAL(9,G20:G26) -> 6595
A28: This year could be big in tennis | B28: Tovar | C28: 44415 | D28: 250 | E28: Profile | F28: Professional | G28: ='August Advertising'!$D28*2.5 -> 625
A29: Major league baseball is for the young | B29: O'Brien | C29: 44425 | D29: 562 | E29: Profile | F29: Professional | G29: ='August Advertising'!$D29*2.5 -> 1405
A30: Hidden college football stars | B30: Walsh | C30: 44439 | D30: 477 | E30: Profile | F30: College | G30: ='August Advertising'!$D30*2.5 -> 1192.5
E31: Profile Total | G31: =SUBTOTAL(9,G28:G30) -> 3222.5
E32: Grand Total | G32: =SUBTOTAL(9,G2:G30) -> 23810

Sheet Lookup
A1: ID | B1: Article Title | C1: Article Type | D1: Publication Date | E1: Ad Amt | G1: Article Information
A2: O210 | B2: European road bicycle racing? | C2: Opinion | D2: 44413 | E2: 435 | G2: Article ID | H2: A720
A3: N329 | B3: Women's softball championship | C3: News | D3: 44420 | E3: 452.5 | G3: Article Title | H3: =B25 -> Ranking NBA journeymen
A4: N447 | B4: Women's soccer and more | C4: News | D4: 44428 | E4: 567.5 | G4: Publication Date | H4: =D25 -> 44418
A5: N552 | B5: Head-to-head points and ranks | C5: News | D5: 44435 | E5: 575
A6: F316 | B6: European games | C6: Feature | D6: 44443 | E6: 621.6 | G6: Ad Amt
A7: P453 | B7: This year could be big in tennis | C7: Profile | D7: 44415 | E7: 625 | G7: > 500
A8: F311 | B8: New to fantasy baseball? | C8: Feature | D8: 44436 | E8: 640 | G8: Number of Articles | H8: =DCOUNT(Lookup[#All],Lookup[[#Headers],[Ad Amt]],G6:G70) -> 36
A9: A598 | B9: Hernandez comes roaring back | C9: Analysis | D9: 44430 | E9: 700
A10: F240 | B10: Women's hoops preview | C10: Feature | D10: 44447 | E10: 729.6
A11: O697 | B11: Third base is a power position | C11: Opinion | D11: 44416 | E11: 785 | G11: Article Type
A12: A230 | B12: Closer trends and strategies | C12: Analysis | D12: 44438 | E12: 785 | G12: Analysis
A13: N533 | B13: Last-minute duel in golf | C13: News | D13: 44410 | E13: 805 | G13: Average Ad Amt | H13: =DAVERAGE(Lookup[#All],Lookup[[#Headers],[Ad Amt]],G11:G12) -> 1023.04
A14: O239 | B14: Better helmets, better games | C14: Opinion | D14: 44443 | E14: 859.2
A15: N251 | B15: Friday night lights | C15: News | D15: 44442 | E15: 864
A16: F325 | B16: It's always raining at the Open | C16: Feature | D16: 44446 | E16: 878.4
A17: O325 | B17: Ankle injuries are killing the NBA's best | C17: Opinion | D17: 44423 | E17: 897.5
A18: N245 | B18: Eleventh-inning errors | C18: News | D18: 44429 | E18: 955
A19: O310 | B19: Another ref crisis? | C19: Opinion | D19: 44448 | E19: 962.4
A20: O220 | B20: Time for another MLB expansion? | C20: Opinion | D20: 44433 | E20: 970
A21: N512 | B21: NFL waiver wire | C21: News | D21: 44424 | E21: 992.5
A22: N247 | B22: College football coaching changes | C22: News | D22: 44440 | E22: 1008
A23: F305 | B23: Pace of MLB rebuild picks up | C23: Feature | D23: 44432 | E23: 1050
A24: O736 | B24: Quarterback stability is everything | C24: Opinion | D24: 44427 | E24: 1085
A25: A720 | B25: Ranking NBA journeymen | C25: Analysis | D25: 44418 | E25: 1115
... A37: F482 | B37: College football is around the corner | C37: Feature | D37: 44426 | E37: 1505
